BEGIN:VCALENDAR
VERSION:2.0
PRODID:-//Svensk Kirurgisk Förening - ECPv6.0.11//NONSGML v1.0//EN
CALSCALE:GREGORIAN
METHOD:PUBLISH
X-ORIGINAL-URL:http://svenskkirurgiskforening.se
X-WR-CALDESC:Händelser för Svensk Kirurgisk Förening
REFRESH-INTERVAL;VALUE=DURATION:PT1H
X-Robots-Tag:noindex
X-PUBLISHED-TTL:PT1H
BEGIN:VTIMEZONE
TZID:Europe/Stockholm
BEGIN:DAYLIGHT
TZOFFSETFROM:+0100
TZOFFSETTO:+0200
TZNAME:CEST
DTSTART:20260329T010000
END:DAYLIGHT
BEGIN:STANDARD
TZOFFSETFROM:+0200
TZOFFSETTO:+0100
TZNAME:CET
DTSTART:20261025T010000
END:STANDARD
END:VTIMEZONE
BEGIN:VEVENT
DTSTART;VALUE=DATE:20260411
DTEND;VALUE=DATE:20260417
DTSTAMP:20260425T162504
CREATED:20250910T074515Z
LAST-MODIFIED:20250910T074735Z
UID:7773-1775865600-1776383999@svenskkirurgiskforening.se
SUMMARY:Kurs i kirurgisk teknik för ST-läkare och specialister
DESCRIPTION:Kurserna ges på tre nivåer och blandar teori med praktiska övningar. Möjlighet finns för robotkirurgi-träning. Tid finns under dagarna för att utforska Davos omgivningar\, inkl bergstoppar. \n  \nBASIC:  Vänder sig till nya ST-läkare. Motsvarar kursen i basal kirurgisk teknik. \nINTERMEDIATE: Vänder sig till ST-läkare med kirurgisk erfarenhet i 3-4 år. De praktiska övningarna är mer avancerade än på basic. \nADVANCED: Bakjoursförberedande\, eller subspecialiseringskurser\, om 3-5 dagar. Finns som Colorectal\, Hernia\, Bariatrics\, Upper GI\, HPB\, Pediatric surgery och Emergency and Acute Care urgery. Den sistnämnda är UEMS-förberedande. \nhttps://davoscourse.ch/2026 \nVid frågor är ni välkomna att kontakta caroline.williamsson@med.lu.se
URL:http://svenskkirurgiskforening.se/event/kurs-i-kirurgisk-teknik-for-st-lakare-och-specialister/
LOCATION:Davos\, Davos\, Schweiz
CATEGORIES:Alla evanemang,Internationell konferens
ATTACH;FMTTYPE=image/jpeg:http://svenskkirurgiskforening.se/wp-content/uploads/2025/09/lake-davos-4495090_1280.jpg
END:VEVENT
END:VCALENDAR