BEGIN:VCALENDAR
VERSION:2.0
PRODID:-//Svensk Kirurgisk Förening - ECPv6.0.11//NONSGML v1.0//EN
CALSCALE:GREGORIAN
METHOD:PUBLISH
X-ORIGINAL-URL:http://svenskkirurgiskforening.se
X-WR-CALDESC:Händelser för Svensk Kirurgisk Förening
REFRESH-INTERVAL;VALUE=DURATION:PT1H
X-Robots-Tag:noindex
X-PUBLISHED-TTL:PT1H
BEGIN:VTIMEZONE
TZID:Europe/Stockholm
BEGIN:DAYLIGHT
TZOFFSETFROM:+0100
TZOFFSETTO:+0200
TZNAME:CEST
DTSTART:20260329T010000
END:DAYLIGHT
BEGIN:STANDARD
TZOFFSETFROM:+0200
TZOFFSETTO:+0100
TZNAME:CET
DTSTART:20261025T010000
END:STANDARD
END:VTIMEZONE
BEGIN:VEVENT
DTSTART;TZID=Europe/Stockholm:20260508T100000
DTEND;TZID=Europe/Stockholm:20260508T140000
DTSTAMP:20260425T162521
CREATED:20251127T142155Z
LAST-MODIFIED:20251127T142155Z
UID:7921-1778234400-1778248800@svenskkirurgiskforening.se
SUMMARY:Specialistskrivning i kirurgi
DESCRIPTION:Specialistskrivning i kirurgi Svensk Kirurgisk Förenings specialistexamen sker digitalt via plattformen (Digiexam) på medhavd privat dator. \nSkrivningen är öppen för sista års-ST och nyblivna specialister i kirurgi. Frågorna berör huvudsakligen delmål C1–C11 och har som syfte att spegla de kunskaper en färdig specialist skall ha. Det finns möjlighet att träna på tidigare skrivningar via SKF hemsida. \nTid: 8 maj kl.10.00-14.00 \nPlats:  Hemklinik eller annan enhet inom regionen. Exakt ort där man kan genomföra skrivningen kommer att meddelas under våren 2026. \nAnmälan för våren 2026 är öppen från 7 januari och görs via  https://dr-utbildningsportalen.se \nSista anmälningsdag 27 mars 2026
URL:http://svenskkirurgiskforening.se/event/specialistskrivning-i-kirurgi/
CATEGORIES:Alla evanemang,Övrigt
END:VEVENT
END:VCALENDAR