BEGIN:VCALENDAR
VERSION:2.0
PRODID:-//Svensk Kirurgisk Förening - ECPv6.0.11//NONSGML v1.0//EN
CALSCALE:GREGORIAN
METHOD:PUBLISH
X-ORIGINAL-URL:http://svenskkirurgiskforening.se
X-WR-CALDESC:Händelser för Svensk Kirurgisk Förening
REFRESH-INTERVAL;VALUE=DURATION:PT1H
X-Robots-Tag:noindex
X-PUBLISHED-TTL:PT1H
BEGIN:VTIMEZONE
TZID:Europe/Stockholm
BEGIN:DAYLIGHT
TZOFFSETFROM:+0100
TZOFFSETTO:+0200
TZNAME:CEST
DTSTART:20250330T010000
END:DAYLIGHT
BEGIN:STANDARD
TZOFFSETFROM:+0200
TZOFFSETTO:+0100
TZNAME:CET
DTSTART:20251026T010000
END:STANDARD
END:VTIMEZONE
BEGIN:VEVENT
DTSTART;VALUE=DATE:20250919
DTEND;VALUE=DATE:20250921
DTSTAMP:20260426T021012
CREATED:20250919T100843Z
LAST-MODIFIED:20250919T100843Z
UID:7794-1758240000-1758412799@svenskkirurgiskforening.se
SUMMARY:European Union of Medical Specialists (UEMS)
DESCRIPTION:
URL:http://svenskkirurgiskforening.se/event/european-union-of-medical-specialists-uems/
LOCATION:Skånes Universitetssjukhus\, Lund\, Getingevägen 4\, Lund\, 222 41\, Sverige
CATEGORIES:Alla evanemang,Internationell konferens
END:VEVENT
END:VCALENDAR