BEGIN:VCALENDAR
VERSION:2.0
PRODID:-//Svensk Kirurgisk Förening - ECPv6.0.11//NONSGML v1.0//EN
CALSCALE:GREGORIAN
METHOD:PUBLISH
X-WR-CALNAME:Svensk Kirurgisk Förening
X-ORIGINAL-URL:http://svenskkirurgiskforening.se
X-WR-CALDESC:Händelser för Svensk Kirurgisk Förening
REFRESH-INTERVAL;VALUE=DURATION:PT1H
X-Robots-Tag:noindex
X-PUBLISHED-TTL:PT1H
BEGIN:VTIMEZONE
TZID:Europe/Stockholm
BEGIN:DAYLIGHT
TZOFFSETFROM:+0100
TZOFFSETTO:+0200
TZNAME:CEST
DTSTART:20260329T010000
END:DAYLIGHT
BEGIN:STANDARD
TZOFFSETFROM:+0200
TZOFFSETTO:+0100
TZNAME:CET
DTSTART:20261025T010000
END:STANDARD
END:VTIMEZONE
BEGIN:VEVENT
DTSTART;VALUE=DATE:20260909
DTEND;VALUE=DATE:20260912
DTSTAMP:20260426T014325
CREATED:20260420T143209Z
LAST-MODIFIED:20260420T143404Z
UID:8050-1788912000-1789171199@svenskkirurgiskforening.se
SUMMARY:Sjukdomar i nedre gastrointestinalkanalen
DESCRIPTION:Länk till kurs.
URL:http://svenskkirurgiskforening.se/event/sjukdomar-i-nedre-gastrointestinalkanalen/
LOCATION:Stockholm\, Stockholm\, Sverige
CATEGORIES:Alla evanemang,Kurser
END:VEVENT
BEGIN:VEVENT
DTSTART;VALUE=DATE:20260928
DTEND;VALUE=DATE:20261001
DTSTAMP:20260426T014325
CREATED:20260420T143330Z
LAST-MODIFIED:20260420T143330Z
UID:8052-1790553600-1790812799@svenskkirurgiskforening.se
SUMMARY:Nationell kurs i TEP/TAPP teknik
DESCRIPTION:Länk till kurs.
URL:http://svenskkirurgiskforening.se/event/nationell-kurs-i-tep-tapp-teknik/
CATEGORIES:Alla evanemang,Kurser
END:VEVENT
BEGIN:VEVENT
DTSTART;VALUE=DATE:20261007
DTEND;VALUE=DATE:20261010
DTSTAMP:20260426T014325
CREATED:20260420T143607Z
LAST-MODIFIED:20260420T143607Z
UID:8054-1791331200-1791590399@svenskkirurgiskforening.se
SUMMARY:Fördjupningskurs för bröst- och plastikkirurger i bröst- och melanomkirurgi: från diagnos till rekonstruktion
DESCRIPTION:Information
URL:http://svenskkirurgiskforening.se/event/fordjupningskurs-for-brost-och-plastikkirurger-i-brost-och-melanomkirurgi-fran-diagnos-till-rekonstruktion-2/
LOCATION:Karolinska Universitetssjukhuset i Solna\, Karolinska vägen\, Solna\, Sverige
CATEGORIES:Alla evanemang,Kurser
END:VEVENT
BEGIN:VEVENT
DTSTART;VALUE=DATE:20261008
DTEND;VALUE=DATE:20261010
DTSTAMP:20260426T014325
CREATED:20260420T143736Z
LAST-MODIFIED:20260420T143736Z
UID:8056-1791417600-1791590399@svenskkirurgiskforening.se
SUMMARY:NEENA
DESCRIPTION:Information
URL:http://svenskkirurgiskforening.se/event/neena/
LOCATION:Helsingfors\, Finland
CATEGORIES:Alla evanemang,Internationell konferens
END:VEVENT
END:VCALENDAR