BEGIN:VCALENDAR
VERSION:2.0
PRODID:-//Svensk Kirurgisk Förening - ECPv6.0.11//NONSGML v1.0//EN
CALSCALE:GREGORIAN
METHOD:PUBLISH
X-WR-CALNAME:Svensk Kirurgisk Förening
X-ORIGINAL-URL:http://svenskkirurgiskforening.se
X-WR-CALDESC:Händelser för Svensk Kirurgisk Förening
REFRESH-INTERVAL;VALUE=DURATION:PT1H
X-Robots-Tag:noindex
X-PUBLISHED-TTL:PT1H
BEGIN:VTIMEZONE
TZID:Europe/Stockholm
BEGIN:DAYLIGHT
TZOFFSETFROM:+0100
TZOFFSETTO:+0200
TZNAME:CEST
DTSTART:20220327T010000
END:DAYLIGHT
BEGIN:STANDARD
TZOFFSETFROM:+0200
TZOFFSETTO:+0100
TZNAME:CET
DTSTART:20221030T010000
END:STANDARD
BEGIN:DAYLIGHT
TZOFFSETFROM:+0100
TZOFFSETTO:+0200
TZNAME:CEST
DTSTART:20230326T010000
END:DAYLIGHT
BEGIN:STANDARD
TZOFFSETFROM:+0200
TZOFFSETTO:+0100
TZNAME:CET
DTSTART:20231029T010000
END:STANDARD
BEGIN:DAYLIGHT
TZOFFSETFROM:+0100
TZOFFSETTO:+0200
TZNAME:CEST
DTSTART:20240331T010000
END:DAYLIGHT
BEGIN:STANDARD
TZOFFSETFROM:+0200
TZOFFSETTO:+0100
TZNAME:CET
DTSTART:20241027T010000
END:STANDARD
END:VTIMEZONE
BEGIN:VEVENT
DTSTART;VALUE=DATE:20241128
DTEND;VALUE=DATE:20241129
DTSTAMP:20260425T192705
CREATED:20241115T073850Z
LAST-MODIFIED:20241115T073850Z
UID:7503-1732752000-1732838399@svenskkirurgiskforening.se
SUMMARY:Kommittén för kirurgisk forskning
DESCRIPTION:Möte
URL:http://svenskkirurgiskforening.se/event/kommitten-for-kirurgisk-forskning/
LOCATION:Stockholm\, Stockholm\, Sverige
CATEGORIES:Övrigt
END:VEVENT
BEGIN:VEVENT
DTSTART;VALUE=DATE:20241017
DTEND;VALUE=DATE:20241020
DTSTAMP:20260425T192705
CREATED:20240905T134844Z
LAST-MODIFIED:20240905T134844Z
UID:7411-1729123200-1729382399@svenskkirurgiskforening.se
SUMMARY:9th EVTM Symposium
DESCRIPTION:Hot topics in EndoVascular resuscitation and Trauma Management. \nFlyer (pdf) \n 
URL:http://svenskkirurgiskforening.se/event/9th-evtm-symposium/
LOCATION:Örebro slott\, Kansligatan 1\, Örebro\, 70361\, Sverige
CATEGORIES:Internationell konferens
END:VEVENT
BEGIN:VEVENT
DTSTART;TZID=Europe/Stockholm:20240917T150000
DTEND;TZID=Europe/Stockholm:20240917T170000
DTSTAMP:20260425T192705
CREATED:20240910T124209Z
LAST-MODIFIED:20240910T124209Z
UID:7414-1726585200-1726592400@svenskkirurgiskforening.se
SUMMARY:Lennanderföreläsning 2024
DESCRIPTION:Svenska Läkaresällskapet har utsett Martin Salö till 2024 års Lennanderföreläsare efter nominering av Svensk Kirurgisk Förening. Martin är biträdande överläkare och docent i Barn- och ungdomskirurgi\, Medicinska fakulteten\, Lunds universitet. \n  \nhttps://www.sls.se/om-oss/aktuellt/kalendarium/lennanderforelasning-2024/
URL:http://svenskkirurgiskforening.se/event/lennanderforelasning-2024/
CATEGORIES:Övrigt
END:VEVENT
BEGIN:VEVENT
DTSTART;VALUE=DATE:20240530
DTEND;VALUE=DATE:20240601
DTSTAMP:20260425T192705
CREATED:20240507T100052Z
LAST-MODIFIED:20240507T100126Z
UID:7344-1717027200-1717199999@svenskkirurgiskforening.se
SUMMARY:IBD genom livet
DESCRIPTION:INBJUDAN TILL ERSTA IBD-SYMPOSIUM 2024 \nErsta Sjukhus har\, i samarbete med Janssen och Ethicon\, nöjet att bjuda in till utbildning på Ersta IBD-Centrum. \nProgram/inbjudan (pdf\, öppnas i nytt fönster)
URL:http://svenskkirurgiskforening.se/event/ibd-genom-livet/
LOCATION:Ersta\, Erstagatan 1K\, Stockholm\, 11628\, Sverige
CATEGORIES:Nationell konferens
END:VEVENT
BEGIN:VEVENT
DTSTART;TZID=Europe/Stockholm:20240521T160000
DTEND;TZID=Europe/Stockholm:20240521T170000
DTSTAMP:20260425T192705
CREATED:20240515T124920Z
LAST-MODIFIED:20240515T124920Z
UID:7353-1716307200-1716310800@svenskkirurgiskforening.se
SUMMARY:Webinarium: Stora hiatusbråck - bakgrund\, modern behandling samt presentation av pågående nationell multicenterstudie
DESCRIPTION:Föreläsare: Jan Johansson. Överläkare och Professor\, Esofagus-/ Ventrikelteamet\, SUS Lund.\nMarcus Reuterwall Hansson\, Överläkare och PhD\, Ersta Sjukhus \nKoppla upp dig på nedanstående zoom länk: \nhttps://ki-se.zoom.us/j/67162078272 \nJoin Zoom Meeting
URL:http://svenskkirurgiskforening.se/event/webinarium-stora-hiatusbrack-bakgrund-modern-behandling-samt-presentation-av-pagaende-nationell-multicenterstudie/
CATEGORIES:Kurser
END:VEVENT
BEGIN:VEVENT
DTSTART;VALUE=DATE:20240515
DTEND;VALUE=DATE:20240518
DTSTAMP:20260425T192705
CREATED:20231205T105610Z
LAST-MODIFIED:20231205T105803Z
UID:7117-1715731200-1715990399@svenskkirurgiskforening.se
SUMMARY:Gastrodagarna 2024
DESCRIPTION:Bästa Gastrovän\, \nNu har du möjlighet att skicka in ett abstrakt till Gastrodagarna 2024 – ta chansen att dela din forskning med kollegor från hela landet! \nDeadline: 18 januari 2024 \nAbstrakt kan lämnas in i följande kategorier: \n\nEndoskopi\nFunktionella mag-tarmsjukdomar och nutrition\nGallvägs- och pankreassjukdomar\nHållbarhet NY!\nInflammatoriska tarmsjukdomar\nKirurgi\nOmvårdnadsforskning\nLeversjukdomar\n\nGodkända arbeten kommer väljas ut till antingen muntlig presentation under general session (nytt format sen 2022) eller som poster. \nVi uppmuntrar till att man även sänder in material som presenterats internationellt under året. \nMer information hittar du på hemsidan. \nGastrodagarnas hemsida \nFör att lämna in ett abstrakt\, klicka på länken nedan. \nAbstraktinlämning Svenska Gastrodagarna 2024 \nHannes Hagström\nVetenskaplig sekreterare\, Svensk Gastroenterologisk Förening
URL:http://svenskkirurgiskforening.se/event/gastrodagarna-2024/
LOCATION:Linköping\, Linköping\, Sverige
CATEGORIES:Nationell konferens
END:VEVENT
BEGIN:VEVENT
DTSTART;TZID=Europe/Stockholm:20240416T130000
DTEND;TZID=Europe/Stockholm:20240416T160000
DTSTAMP:20260425T192705
CREATED:20240222T143301Z
LAST-MODIFIED:20240222T143523Z
UID:7252-1713272400-1713283200@svenskkirurgiskforening.se
SUMMARY:Temadag: Preoperativ antikoagulation och antibiotika vid kirurgi
DESCRIPTION:SLS arrangerar tillsammans med Svensk Kirurgisk Förening en temadag om preoperativ antikoagulation och antibiotika vid kirurgi. \nAnmäl dig senast den 9 april \nhttps://www.sls.se/om-oss/aktuellt/kalendarium/temadag-preoperativ-antikoagulation-och-antibiotika-vid-kirurgi/
URL:http://svenskkirurgiskforening.se/event/temadag-preoperativ-antikoagulation-och-antibiotika-vid-kirurgi/
LOCATION:SLS hus\, Klara Östra Kyrkogata 10\, Stockholm\, Sverige
CATEGORIES:Alla evanemang,Kurser
END:VEVENT
BEGIN:VEVENT
DTSTART;VALUE=DATE:20240410
DTEND;VALUE=DATE:20240413
DTSTAMP:20260425T192705
CREATED:20240322T102537Z
LAST-MODIFIED:20240322T102537Z
UID:7286-1712707200-1712966399@svenskkirurgiskforening.se
SUMMARY:Bakjourskurs i kolorektalkirurgi
DESCRIPTION:Unikt tillfälle att gå bakjourskurs i kolorektalkirurgi \nKursens innehåll och nivå motiverar att denna är godkänd som ett alternativ till bakjourskursen för kolorektalkirurgi som en del i ackreditering som bakjour. Detta gäller årets kurs. \n  \n  \nLänk till program och anmälan https://www.trippus.net/ColoRectal_Uppsala2024
URL:http://svenskkirurgiskforening.se/event/bakjourskurs-i-kolorektalkirurgi/
LOCATION:Uppsala\, Uppsala\, Sverige
CATEGORIES:Kurser
END:VEVENT
BEGIN:VEVENT
DTSTART;VALUE=DATE:20240410
DTEND;VALUE=DATE:20240413
DTSTAMP:20260425T192705
CREATED:20240212T102026Z
LAST-MODIFIED:20240212T102026Z
UID:7178-1712707200-1712966399@svenskkirurgiskforening.se
SUMMARY:18th Nordic Postgraduate Course in ColoRectal Surgery & Kolorektaldagarna
DESCRIPTION:För mer information: https://www.trippus.net/ColoRectal_Uppsala2024
URL:http://svenskkirurgiskforening.se/event/18th-nordic-postgraduate-course-in-colorectal-surgery-kolorektaldagarna/
LOCATION:Uppsala\, Uppsala\, Sverige
CATEGORIES:Internationell konferens
END:VEVENT
BEGIN:VEVENT
DTSTART;VALUE=DATE:20230928
DTEND;VALUE=DATE:20230930
DTSTAMP:20260425T192705
CREATED:20230102T102443Z
LAST-MODIFIED:20230102T102504Z
UID:6716-1695859200-1696031999@svenskkirurgiskforening.se
SUMMARY:2nd Nordic Barrett´s Esophagus and Early Esophageal Cancer Meeting
DESCRIPTION:Mer information kommer senare…
URL:http://svenskkirurgiskforening.se/event/2nd-nordic-barretts-esophagus-and-early-esophageal-cancer-meeting/
LOCATION:oslo\, Oslo\, Norge
CATEGORIES:Internationell konferens
END:VEVENT
BEGIN:VEVENT
DTSTART;VALUE=DATE:20230821
DTEND;VALUE=DATE:20230826
DTSTAMP:20260425T192705
CREATED:20230320T145725Z
LAST-MODIFIED:20230320T145725Z
UID:6878-1692576000-1693007999@svenskkirurgiskforening.se
SUMMARY:Kirurgveckan i Örebro
DESCRIPTION:https://www.kirurgveckan.se (länk\, öppnas i nytt fönster)
URL:http://svenskkirurgiskforening.se/event/kirurgveckan-i-orebro/
CATEGORIES:Alla evanemang,Nationell konferens
END:VEVENT
BEGIN:VEVENT
DTSTART;VALUE=DATE:20230820
DTEND;VALUE=DATE:20230821
DTSTAMP:20260425T192705
CREATED:20230320T150126Z
LAST-MODIFIED:20230320T150126Z
UID:6883-1692489600-1692575999@svenskkirurgiskforening.se
SUMMARY:Styrelsemöte Svensk Kirurgi
DESCRIPTION:
URL:http://svenskkirurgiskforening.se/event/styrelsemote-svensk-kirurgi-3/
CATEGORIES:Alla evanemang,Övrigt
END:VEVENT
BEGIN:VEVENT
DTSTART;VALUE=DATE:20230805
DTEND;VALUE=DATE:20230806
DTSTAMP:20260425T192705
CREATED:20230320T145528Z
LAST-MODIFIED:20230320T145528Z
UID:6876-1691193600-1691279999@svenskkirurgiskforening.se
SUMMARY:Sista dag att ladda upp e-poster till Kirurgveckan
DESCRIPTION:https://www.kirurgveckan.se/ (länk\, öppnas i nytt fönster
URL:http://svenskkirurgiskforening.se/event/sista-dag-att-ladda-upp-e-poster-till-kirurgveckan/
CATEGORIES:Alla evanemang,Nationell konferens
END:VEVENT
BEGIN:VEVENT
DTSTART;VALUE=DATE:20230629
DTEND;VALUE=DATE:20230630
DTSTAMP:20260425T192705
CREATED:20230320T145336Z
LAST-MODIFIED:20230320T145827Z
UID:6873-1687996800-1688083199@svenskkirurgiskforening.se
SUMMARY:Höjd anmälningsavgift till Kirurgveckan
DESCRIPTION:https://www.kirurgveckan.se (länk\, öppnas i nytt fönster)
URL:http://svenskkirurgiskforening.se/event/hojd-anmalningsavgift-till-kirurgveckan/
CATEGORIES:Alla evanemang,Nationell konferens
END:VEVENT
BEGIN:VEVENT
DTSTART;VALUE=DATE:20230614
DTEND;VALUE=DATE:20230615
DTSTAMP:20260425T192705
CREATED:20230320T145243Z
LAST-MODIFIED:20230320T145243Z
UID:6871-1686700800-1686787199@svenskkirurgiskforening.se
SUMMARY:Styrelsemöte Svensk Kirurgi
DESCRIPTION:
URL:http://svenskkirurgiskforening.se/event/styrelsemote-svensk-kirurgi-2/
CATEGORIES:Alla evanemang,Övrigt
END:VEVENT
BEGIN:VEVENT
DTSTART;TZID=Europe/Stockholm:20230525T180000
DTEND;TZID=Europe/Stockholm:20230525T200000
DTSTAMP:20260425T192705
CREATED:20230428T082152Z
LAST-MODIFIED:20230428T083158Z
UID:6980-1685037600-1685044800@svenskkirurgiskforening.se
SUMMARY:Webinar: Robotic Surgery in the Nordics
DESCRIPTION:Anmälan: https://webpress.no/scandinavian-surgical-society/robotic-surgery-in-the-nordics/ \nFlyer (pdf\, öppnas i nytt fönster)
URL:http://svenskkirurgiskforening.se/event/webinar-robotic-surgery-in-the-nordics/
CATEGORIES:Alla evanemang,Kurser
END:VEVENT
BEGIN:VEVENT
DTSTART;VALUE=DATE:20230525
DTEND;VALUE=DATE:20230527
DTSTAMP:20260425T192705
CREATED:20230320T145203Z
LAST-MODIFIED:20230320T151835Z
UID:6869-1684972800-1685145599@svenskkirurgiskforening.se
SUMMARY:Ersta IBD-symposium
DESCRIPTION:Ersta IBD-symposium (länk\, öppnas i nytt fönster)
URL:http://svenskkirurgiskforening.se/event/ersta-ibd-symposium/
CATEGORIES:Alla evanemang,Nationell konferens
END:VEVENT
BEGIN:VEVENT
DTSTART;VALUE=DATE:20230525
DTEND;VALUE=DATE:20230526
DTSTAMP:20260425T192705
CREATED:20230320T145117Z
LAST-MODIFIED:20230320T145117Z
UID:6867-1684972800-1685059199@svenskkirurgiskforening.se
SUMMARY:Läkarförbundets Representantskap
DESCRIPTION:
URL:http://svenskkirurgiskforening.se/event/lakarforbundets-representantskap/
CATEGORIES:Alla evanemang,Övrigt
END:VEVENT
BEGIN:VEVENT
DTSTART;VALUE=DATE:20230524
DTEND;VALUE=DATE:20230525
DTSTAMP:20260425T192705
CREATED:20230320T145009Z
LAST-MODIFIED:20230320T145029Z
UID:6864-1684886400-1684972799@svenskkirurgiskforening.se
SUMMARY:Styrelsemöte Svensk Kirurgi
DESCRIPTION:
URL:http://svenskkirurgiskforening.se/event/styrelsemote/
CATEGORIES:Alla evanemang,Övrigt
END:VEVENT
BEGIN:VEVENT
DTSTART;VALUE=DATE:20230523
DTEND;VALUE=DATE:20230524
DTSTAMP:20260425T192705
CREATED:20230320T144931Z
LAST-MODIFIED:20230320T144931Z
UID:6862-1684800000-1684886399@svenskkirurgiskforening.se
SUMMARY:Läkaresällskapets Fullmäktigemöte
DESCRIPTION:
URL:http://svenskkirurgiskforening.se/event/lakaresallskapets-fullmaktigemote/
CATEGORIES:Alla evanemang,Övrigt
END:VEVENT
BEGIN:VEVENT
DTSTART;VALUE=DATE:20230418
DTEND;VALUE=DATE:20230419
DTSTAMP:20260425T192705
CREATED:20230320T144845Z
LAST-MODIFIED:20230320T144845Z
UID:6860-1681776000-1681862399@svenskkirurgiskforening.se
SUMMARY:Styrelsemöte Svensk Kirurgi
DESCRIPTION:
URL:http://svenskkirurgiskforening.se/event/styrelsemote-svensk-kirurgi/
CATEGORIES:Alla evanemang,Övrigt
END:VEVENT
BEGIN:VEVENT
DTSTART;VALUE=DATE:20230417
DTEND;VALUE=DATE:20230418
DTSTAMP:20260425T192705
CREATED:20230320T144658Z
LAST-MODIFIED:20230320T145900Z
UID:6857-1681689600-1681775999@svenskkirurgiskforening.se
SUMMARY:Deadline abstract Kirurgveckan
DESCRIPTION:https://www.kirurgveckan.se (länk\, öppnas i nytt fönster)
URL:http://svenskkirurgiskforening.se/event/deadline-abstract-kirurgveckan/
CATEGORIES:Alla evanemang,Nationell konferens
END:VEVENT
BEGIN:VEVENT
DTSTART;VALUE=DATE:20230403
DTEND;VALUE=DATE:20230404
DTSTAMP:20260425T192705
CREATED:20230320T144546Z
LAST-MODIFIED:20230320T145931Z
UID:6855-1680480000-1680566399@svenskkirurgiskforening.se
SUMMARY:Anmälan till Kirurgveckan i Örebro öppnar
DESCRIPTION:https://www.kirurgveckan.se (länk\, öppnas i nytt fönster)
URL:http://svenskkirurgiskforening.se/event/anmalan-till-kirurgveckan-i-orebro-oppnar/
CATEGORIES:Alla evanemang,Nationell konferens
END:VEVENT
BEGIN:VEVENT
DTSTART;VALUE=DATE:20221129
DTEND;VALUE=DATE:20221202
DTSTAMP:20260425T192705
CREATED:20211203T084147Z
LAST-MODIFIED:20211203T084147Z
UID:6489-1669680000-1669939199@svenskkirurgiskforening.se
SUMMARY:Bakjourskurs akut kärl-traumakirurgi
DESCRIPTION:Kursinnehåll: Damage control strategi vid trauma och akut kärlkirurgi. Kärlskador i buk\, bäcken\, hals och extremiteter. Akut tarm och extremitetsischemi. Akuta tillstånd i aorta. \nPraktiska övningar på gris med packning\, sutur av ven och artärskada\, samt \nshuntning. Handläggning av lever\, mjälte och hjärtskador tränas också på gris. Brännskador\, Thoraxtrauma\, Bäckenfrakturer\, Neurotrauma. \nFöreläsare/instruktörer \nFredrik Linder\, kursledare – akut-trauma\, Kevin Mani – kärl\,  David Lindström – kärl\, Josefin Gustafsson – akut-trauma\, Demos Dellagramatica – kärl\, Peter Ström – ortopedi\, Anders Lewén – neurokirurgi\, Morten Kildal – brännskador\, Magnus von Seth – intensivvård \nKursplats: Akademiska Sjukhuset \nKursansvarig: Fredrik Linder\, fredrik.linder@surgsci.uu.se \nKursadministratör: Ylva Skatt\, ylva.skatt@akademiska.se \nAntal deltagare:\n20 \nKostnad:\n15 200 + moms (icke medlem SKF + 1000 kr + moms)
URL:http://svenskkirurgiskforening.se/event/bakjourskurs-akut-karl-traumakirurgi-2/
LOCATION:Akademiska sjukhuset\, Akademiska sjukhuset\, Uppsala\, 75185\, Sverige
CATEGORIES:Alla evanemang,Bakjoursskolan
END:VEVENT
BEGIN:VEVENT
DTSTART;VALUE=DATE:20220908
DTEND;VALUE=DATE:20220910
DTSTAMP:20260425T192705
CREATED:20211115T092040Z
LAST-MODIFIED:20211115T092040Z
UID:6476-1662595200-1662767999@svenskkirurgiskforening.se
SUMMARY:Bakjourskurs Funktionellt ledarskap
DESCRIPTION:Funktionellt ledarskap det 12:e utvecklingsprogrammet inom ramen för Bakjourskolan. Programmet är en avancerad ledarskapsutbildning som fokuserar på utmaningar man kan ställas inför som erfaren kirurg\, i rollen som bakjour eller ledare i en komplex sjukvårdsorganisation. Vi ser fram emot att får träffa er och genomföra en spännande och utvecklande utbildning. Vi kommer genomföra utbildningen IRL på internat på Lidingö samt avsluta med två dagar digitalt via Zoom. \nhttps://dr-utbildningsportalen.se/produkt/bakjourskurs-funktionellt-ledarskap-hosten-2022/
URL:http://svenskkirurgiskforening.se/event/bakjourskurs-funktionellt-ledarskap-2/
LOCATION:Lovik\, Lidingö\, Loviksvägen 1\, Lidingö\, 181 90\, Sverige
CATEGORIES:Alla evanemang,Bakjoursskolan
END:VEVENT
BEGIN:VEVENT
DTSTART;VALUE=DATE:20220530
DTEND;VALUE=DATE:20220602
DTSTAMP:20260425T192705
CREATED:20211111T101258Z
LAST-MODIFIED:20211111T101258Z
UID:6473-1653868800-1654127999@svenskkirurgiskforening.se
SUMMARY:KUB-kurs Kolorektalkirurgi
DESCRIPTION:Kursbeskrivning: Kursen syftar till att ge en bred översikt av kolorektal cancer\, inflammatoriska tarmsjukdomar\, divertikulit\, proktologi\, funktionella tillstånd\, akuta tillstånd\, medicinsk onkologisk behandling\, kirurgisk teknik med speciellt fokus på anastomos och stomi\, samt strategi och perioperativ vård. \nPlats: Umeå\, Norrlands universitetssjukhus\, Kirurgcentrum B91 \nKursansvarig: Karin Strigård och Niillas Blind \nKursadministratör: Linda Olsson \nKurskansli: clister.kansli@umu.se \nTelefon: 090-785 16 87 \nFöreläsare: Karin Strigård Professor\, Ulf Gunnarsson Professor\, Christoffer Odensten Överläkare\, Maria Liljefors Docent\, Markku Haapamäki Docent\, Mats Hjortborg Specialistläkare\, Richard Palmqvist Professor\, Karl Franklin Professor\, Pontus Karling Universitetslektor\, Oskar Hemmingsson Universitetslektor\, Martin Rutegård Docent\, Niillas Blind Specialistläkare \nKursavgift: \n\nför 3 dagars kurs 7 700 kr exkl. moms (icke medlem Svensk Kirurgisk Förening: +1 000 kr exkl. moms)\n\nOBS!!! En frivillig kursdag med proktologiska demonstrationsoperationer erbjuds för deltagarna i denna kurs. Operationsdagen ligger som en separat kurs på utbildningsportalen och du kan anmäla dig till den kursdagen (Operationsdag kolorektalkirurgi\, Umeå\, 2 juni 2022) efter du har anmält dig till denna kurs.
URL:http://svenskkirurgiskforening.se/event/kub-kurs-kolorektalkirurgi-2/
LOCATION:Norrlands Universitetssjukhus\, Daniel Naezéns väg\, Umeå\, 907 37\, Sverige
CATEGORIES:Alla evanemang,KUB och övriga ST-kurser
END:VEVENT
BEGIN:VEVENT
DTSTART;VALUE=DATE:20220530
DTEND;VALUE=DATE:20220602
DTSTAMP:20260425T192705
CREATED:20211111T101032Z
LAST-MODIFIED:20211111T101054Z
UID:6470-1653868800-1654127999@svenskkirurgiskforening.se
SUMMARY:KUB-kurs Akutkirurgi
DESCRIPTION:Kursbeskrivning: Kursen kommer att förmedla kunskaper i primär handläggning av akuta sjukdomstillstånd i bukhålans organ\, klinisk diagnostik\, differentialdiagnostik\, och beslutsfattande. Kursens inriktning är diagnostik med fokus på handläggning av patienter på en kirurgisk akutmottagning. Mer specifikt kommer handläggning av appendicit\, divertikulit\, pankreatit\, kolecystit\, kolangit\, perforerat ulkus\, akut gastrointestinal ischemi\, ileus\, gastrointestinal blödning och den postoperativa buken att tas upp. Kursen kommer också att belysa orsaker till akut buk hos barn och inom gynekologi. Initial handläggning av akuta urologiska tillstånd\, akut proktologi\, brännskador\, sårskador\, mjukdelsinfektioner och akuta kärlkirurgiska tillstånd ingår i kursen. Under kursen kommer särskild vikt att läggas på diskussioner kring patientfall Kursen riktar sig till ST-läkare under det första året av specialistutbildning. \nKursplats:  Kursen är en fjärrundervisningskurs via Teams (uppkoppling i realtid) som anordnas av Karolinska Sjukhuset i Huddinge.  \nFöreläsare/instruktörer: Folke Hammarqvist\, kirurg\, Rebecka Hultgren\, kärlkirurg\, Åsa Edsander Nord\, plastikkirurg\, Emma Öberg\, gynekolog\, Lars Henningsohn\, urolog\, Anna Svenningsson\, barnkirurg\, Nathalie Young\, kirurg samt Linn Westin\, kirurg. \nKursansvarig: Folke Hammarqvist \nKursadministratör: Pernilla Adolfsson \nKursavgift: 7 200  kr exkl moms (för icke-medlem i Svensk Kirurgisk Förening: +1000 kr exkl moms)
URL:http://svenskkirurgiskforening.se/event/kub-kurs/
CATEGORIES:Alla evanemang,KUB och övriga ST-kurser
END:VEVENT
BEGIN:VEVENT
DTSTART;VALUE=DATE:20220511
DTEND;VALUE=DATE:20220514
DTSTAMP:20260425T192705
CREATED:20211111T100808Z
LAST-MODIFIED:20211111T100808Z
UID:6467-1652227200-1652486399@svenskkirurgiskforening.se
SUMMARY:KUB-kurs Endokrinkirurgi\, internat
DESCRIPTION:Kursinnehåll: Omfattar delmål c9 i Socialstyrelsen ST-utbildningsbok för kirurgi \nKursplats: Noors Slott\, Knivsta (sydost om Uppsala) internat \nKursansvarig: Anders Thornell \nKursadministratör: Josefin Hansson \nKursavgift:  11 700 kr  exkl moms  (icke-medlem i Svensk Kirurgisk Förening: +1000 kr\, exkl moms) \nOBS! Kost och logi ingår i kursavgift
URL:http://svenskkirurgiskforening.se/event/kub-kurs-endokrinkirurgi-internat/
LOCATION:Noors slott\, Ledingevägen 93\, Knivsta\, 74144\, Sverige
CATEGORIES:Alla evanemang,KUB och övriga ST-kurser
END:VEVENT
BEGIN:VEVENT
DTSTART;VALUE=DATE:20220504
DTEND;VALUE=DATE:20220506
DTSTAMP:20260425T192705
CREATED:20211111T100656Z
LAST-MODIFIED:20211111T100656Z
UID:6465-1651622400-1651795199@svenskkirurgiskforening.se
SUMMARY:KUB-kurs Bråckkirurgi
DESCRIPTION:Kursbeskrivning: Målbeskrivningen för kursen motsvarar innehållet i delmål 5 i gamla utbildningsboken och ”13. Delmål c5: Kurs i bråckkirurgi” i den nya utbildningsboken från 30 december 2015. Kursen består av två dagars obligatorisk teoretisk del enligt uppdaterad kursversion av innehållet beslutat av fakulteten för nationella kursen i bråckkirurgi. \nKursplats: Frölunda Specialistsjukhus\, Västra Frölunda\, Göteborg \nKursansvarig: Leila Shirazi \nKursadministratör: Hannan Isa \nKursavgift: 6700 kr exkl moms (icke-medlem Svensk Kirurgisk Förening: +1000kr exkl moms) \nOBS!!! En frivillig kursdag på operationsavdelningen Frölunda Specialistsjukhus med demonstrationsoperationer av ljumskbråck erbjuds för deltagarna i denna kurs. Operationsdagen ligger som en separat kurs på utbildningsportalen och du kan anmäla dig till den kursdagen (Operationsdag bråckkirurgi\, Göteborg\, 6 maj 2022) efter du har anmält dig till denna kurs.
URL:http://svenskkirurgiskforening.se/event/kub-kurs-brackkirurgi-3/
LOCATION:Frölunda Specialistsjukhus\, Marconigatan 31\, Västra Frölunda\, 421 22\, Sverige
CATEGORIES:Alla evanemang,KUB och övriga ST-kurser
END:VEVENT
BEGIN:VEVENT
DTSTART;VALUE=DATE:20220502
DTEND;VALUE=DATE:20220505
DTSTAMP:20260425T192705
CREATED:20211111T100541Z
LAST-MODIFIED:20211111T100541Z
UID:6463-1651449600-1651708799@svenskkirurgiskforening.se
SUMMARY:KUB-kurs Övre Abdominell kirurgi
DESCRIPTION:Kursbeskrivning: Enligt Fakulteten för Övre Abdominell kirurgi. Uppfyller Socialstyrelsens och utbildningsbokens krav för kurs i övre abdominell kirurgi. \nKursplats: Karolinska Universitetssjukhuset\, Huddinge \nKursansvarig: Peter Elbe \nKursadministratör: Christina Gustafsson \nKursavgift: 7 700 kr ex. moms (icke medlem Svensk Kirurgisk Förening + 1 000 kr ex.moms)
URL:http://svenskkirurgiskforening.se/event/kub-kurs-ovre-abdominell-kirurgi-4/
LOCATION:Karolinska Universitetssjukhuset\, Huddinge\, Hälsovägen 13\, Huddinge\, 141 57\, Sverige
CATEGORIES:Alla evanemang,KUB och övriga ST-kurser
END:VEVENT
END:VCALENDAR