BEGIN:VCALENDAR
VERSION:2.0
PRODID:-//Svensk Kirurgisk Förening - ECPv6.0.11//NONSGML v1.0//EN
CALSCALE:GREGORIAN
METHOD:PUBLISH
X-ORIGINAL-URL:http://svenskkirurgiskforening.se
X-WR-CALDESC:Händelser för Svensk Kirurgisk Förening
REFRESH-INTERVAL;VALUE=DURATION:PT1H
X-Robots-Tag:noindex
X-PUBLISHED-TTL:PT1H
BEGIN:VTIMEZONE
TZID:Europe/Stockholm
BEGIN:DAYLIGHT
TZOFFSETFROM:+0100
TZOFFSETTO:+0200
TZNAME:CEST
DTSTART:20260329T010000
END:DAYLIGHT
BEGIN:STANDARD
TZOFFSETFROM:+0200
TZOFFSETTO:+0100
TZNAME:CET
DTSTART:20261025T010000
END:STANDARD
END:VTIMEZONE
BEGIN:VEVENT
DTSTART;VALUE=DATE:20260111
DTEND;VALUE=DATE:20260117
DTSTAMP:20260425T190658
CREATED:20251107T144522Z
LAST-MODIFIED:20251107T145704Z
UID:7899-1768089600-1768607999@svenskkirurgiskforening.se
SUMMARY:Att leda sjukvård
DESCRIPTION:Ledarskapsfördjupning för specialistläkare inom ortopedi\, kirurgi och andra närliggande specialiteter\, i samarbete mellan Svensk Ortopedisk Förening\, Svensk Kirurgisk Förening och Handelshögskolan i Stockholm Executive Education. \nhttps://exedsse.se/att-leda-sjukvard/
URL:http://svenskkirurgiskforening.se/event/att-leda-sjukvard/
LOCATION:Stockholm\, Stockholm\, Sverige
CATEGORIES:Alla evanemang,Kurser
END:VEVENT
BEGIN:VEVENT
DTSTART;VALUE=DATE:20260119
DTEND;VALUE=DATE:20260121
DTSTAMP:20260425T190658
CREATED:20251127T140525Z
LAST-MODIFIED:20251127T140842Z
UID:7910-1768780800-1768953599@svenskkirurgiskforening.se
SUMMARY:GIFT – Gastroenterologi i Fortsatt Tjänstgöring
DESCRIPTION:Välkommen till GIFT\, en årlig kurs anordnad av Svensk Gastroenterologisk Förening\, där du under två dagar kommer att bli uppdaterad på de senaste kliniskt relevanta studierna inom gastroenterologi & hepatologi. Som förkortningen antyder är detta en logisk fortsättning på GIF (Gastroenterologi i Fokus)\, där GIF riktas till läkare under utbildning till specialistläkare\, medan GIFT främst vänder sig till dig som är specialist i gastroenterologi & hepatologi\, kirurgi eller internmedicin. Vi välkomnar även annan vårdpersonal som arbetar med mag-tarmsjukdomar. Under kursen sammanfattar de främsta experterna inom svensk gastroenterologi kliniskt relevanta studier som publicerats under det senaste året inom de stora områdena inom vår specialitet. Gott om tid kommer att finnas för diskussioner och interaktion med dina kollegor och de deltagande experterna. \nLänk: https://sgfgift.se/
URL:http://svenskkirurgiskforening.se/event/gift-gastroenterologi-i-fortsatt-tjanstgoring/
LOCATION:Stockholm\, Stockholm\, Sverige
CATEGORIES:Alla evanemang,Kurser
END:VEVENT
BEGIN:VEVENT
DTSTART;VALUE=DATE:20260129
DTEND;VALUE=DATE:20260131
DTSTAMP:20260425T190658
CREATED:20250919T101451Z
LAST-MODIFIED:20250919T101451Z
UID:7808-1769644800-1769817599@svenskkirurgiskforening.se
SUMMARY:Styrelseinternat
DESCRIPTION:Vadstena klosterhotell
URL:http://svenskkirurgiskforening.se/event/styrelseinternat/
LOCATION:Vadstena\, Lasarettsgatan 3\, Vadstena\, 592 30
CATEGORIES:Alla evanemang,Övrigt
END:VEVENT
BEGIN:VEVENT
DTSTART;VALUE=DATE:20260129
DTEND;VALUE=DATE:20260131
DTSTAMP:20260425T190658
CREATED:20251127T141941Z
LAST-MODIFIED:20251127T142017Z
UID:7918-1769644800-1769817599@svenskkirurgiskforening.se
SUMMARY:Bakjourskurs Övre Abdominell Kirurgi
DESCRIPTION:Målgrupp\nSpecialister i kirurgi som nyligen börjat fungera som bakjour eller står i begrepp att börja som sådan. Även seniora kirurger med erfarenhet av bakjoursarbete men som önskar uppdatera sina kunskaper är välkomna. \nInnehåll\nMålsättningen är att utifrån deltagarnas medtagna patientfall diskutera och belysa olika aspekter på diagnostik\, imaging och initial handläggning samt indikationer för endoskopisk och operativ intervention på akuta tillstånd inom området övre abdominell kirurgi. Likaså kommer handläggning av vanliga intra- och postoperativa komplikationer att belysas. För att diskussionerna ska blir så engagerande och interaktiva som möjligt distribueras litteraturhänvisningar för självstudier inför kursen. Deltagarnas medtagna patientfall kommer att vara basen för kursen\, diskussionerna och de diagnostiska och/eller terapeutiska frågeställningarna. \nProgramansvariga\nLinda Lundgren\, Bergthór Björnsson\, Universitetssjukhuset\, Linköping \nEva Szabo\, Malin Wickbom\, Universitetssjukhuset\, Örebro \nStefan Gilg\, Karolinska Universitetssjukhuset\, Stockholm \nKursansvarig\nLinda Lundgren\, kirurgiska kliniken\, Universitetssjukhuset i Linköping \nlinda.lundgren@regionostergotland.se \nKurssekreterare\nCassandra Uhlin\, kirurgiska kliniken\, Universitetssjukhuset i Linköping cassandra.uhlin@regionostergotland.se \nAnmälan och anmälningsavgift \nAnmälan görs via dr-utbildningsportalen.se \nKursavgift 9500 kronor ex moms\, (ej SKF-medlem + 1000 kr) inkluderar kaffe\, lunch samt gemensam middag torsdagen den 29 januari 2026 \n  \nAntal kursplatser\n20 platser
URL:http://svenskkirurgiskforening.se/event/bakjourskurs-ovre-abdominell-kirurgi-4/
LOCATION:Linköping\, Linköping\, Sverige
CATEGORIES:Alla evanemang,Kurser
END:VEVENT
END:VCALENDAR